BEGIN:VCALENDAR
VERSION:2.0
PRODID:-//Stadtjugendring Mannheim - ECPv6.15.20//NONSGML v1.0//EN
CALSCALE:GREGORIAN
METHOD:PUBLISH
X-WR-CALNAME:Stadtjugendring Mannheim
X-ORIGINAL-URL:https://sjr-mannheim.de
X-WR-CALDESC:Veranstaltungen für Stadtjugendring Mannheim
REFRESH-INTERVAL;VALUE=DURATION:PT1H
X-Robots-Tag:noindex
X-PUBLISHED-TTL:PT1H
BEGIN:VTIMEZONE
TZID:Europe/Berlin
BEGIN:DAYLIGHT
TZOFFSETFROM:+0100
TZOFFSETTO:+0200
TZNAME:CEST
DTSTART:20220327T010000
END:DAYLIGHT
BEGIN:STANDARD
TZOFFSETFROM:+0200
TZOFFSETTO:+0100
TZNAME:CET
DTSTART:20221030T010000
END:STANDARD
BEGIN:DAYLIGHT
TZOFFSETFROM:+0100
TZOFFSETTO:+0200
TZNAME:CEST
DTSTART:20230326T010000
END:DAYLIGHT
BEGIN:STANDARD
TZOFFSETFROM:+0200
TZOFFSETTO:+0100
TZNAME:CET
DTSTART:20231029T010000
END:STANDARD
BEGIN:DAYLIGHT
TZOFFSETFROM:+0100
TZOFFSETTO:+0200
TZNAME:CEST
DTSTART:20240331T010000
END:DAYLIGHT
BEGIN:STANDARD
TZOFFSETFROM:+0200
TZOFFSETTO:+0100
TZNAME:CET
DTSTART:20241027T010000
END:STANDARD
END:VTIMEZONE
BEGIN:VEVENT
DTSTART;VALUE=DATE:20230306
DTEND;VALUE=DATE:20230307
DTSTAMP:20260425T153944
CREATED:20230112T165415Z
LAST-MODIFIED:20230112T165415Z
UID:2586-1678060800-1678147199@sjr-mannheim.de
SUMMARY:!! Redaktionsschluss Rundbrief
DESCRIPTION:
URL:https://sjr-mannheim.de/termin/redaktionsschluss-rundbrief-2/
LOCATION:Jugendkulturzentrum forum\, Neckarpromenade 46\, Mannheim\, 68167
CATEGORIES:Abgabeschluss,Rundbrief,SJR Mannheim
END:VEVENT
END:VCALENDAR