BEGIN:VCALENDAR
VERSION:2.0
PRODID:-//Stadtjugendring Mannheim - ECPv6.15.20//NONSGML v1.0//EN
CALSCALE:GREGORIAN
METHOD:PUBLISH
X-WR-CALNAME:Stadtjugendring Mannheim
X-ORIGINAL-URL:https://sjr-mannheim.de
X-WR-CALDESC:Veranstaltungen für Stadtjugendring Mannheim
REFRESH-INTERVAL;VALUE=DURATION:PT1H
X-Robots-Tag:noindex
X-PUBLISHED-TTL:PT1H
BEGIN:VTIMEZONE
TZID:Europe/Berlin
BEGIN:DAYLIGHT
TZOFFSETFROM:+0100
TZOFFSETTO:+0200
TZNAME:CEST
DTSTART:20230326T010000
END:DAYLIGHT
BEGIN:STANDARD
TZOFFSETFROM:+0200
TZOFFSETTO:+0100
TZNAME:CET
DTSTART:20231029T010000
END:STANDARD
BEGIN:DAYLIGHT
TZOFFSETFROM:+0100
TZOFFSETTO:+0200
TZNAME:CEST
DTSTART:20240331T010000
END:DAYLIGHT
BEGIN:STANDARD
TZOFFSETFROM:+0200
TZOFFSETTO:+0100
TZNAME:CET
DTSTART:20241027T010000
END:STANDARD
BEGIN:DAYLIGHT
TZOFFSETFROM:+0100
TZOFFSETTO:+0200
TZNAME:CEST
DTSTART:20250330T010000
END:DAYLIGHT
BEGIN:STANDARD
TZOFFSETFROM:+0200
TZOFFSETTO:+0100
TZNAME:CET
DTSTART:20251026T010000
END:STANDARD
END:VTIMEZONE
BEGIN:VEVENT
DTSTART;TZID=Europe/Berlin:20240605T173000
DTEND;TZID=Europe/Berlin:20240605T210000
DTSTAMP:20260421T124255
CREATED:20240516T115735Z
LAST-MODIFIED:20240516T115735Z
UID:3886-1717608600-1717621200@sjr-mannheim.de
SUMMARY:Digitales Argumentationstraining gegen Antisemitismus & Verschwörungserzählungen
DESCRIPTION:(Die Veranstaltung findet digital statt!) \nEine Veranstaltung vom SJR Mannheim\nDu sitzt in der Gruppenstunde und eines deiner Kinder/ Gruppenbetreuer*innen bringt einen antisemitischen Spruch? Du würdest dem gerne etwas entgegensetzen\, aber weißt nicht wie? Dann ist das hier genau das Richtige für dich! \nWir leben in einer Welt\, in der Antisemitismus und Verschwörungserzählungen alltäglicher geworden sind\, doch das wollen wir nicht einfach so hinnehmen. Wenn du Lust hast dich mit dem Thema zu beschäftigen und gemeinsam mit anderen interessierten aus den Jugendverbänden darüber zu sprechen\, wie man reagieren\, was man dagegen tun kann und welche Strategien eine wirkungsvolle Gesprächsgestaltung erzeugt\, dann melde dich jetzt bei 📩lena.Schmitt@sjr-mannheim.de bis zum 30. Mai an! \nDurchgeführt vom NDC (Netzwerk für Demokratie und Courage)
URL:https://sjr-mannheim.de/termin/digitales-argumentationstraining-gegen-antisemitismus-verschwoerungserzaehlungen/
CATEGORIES:SJR Mannheim
ATTACH;FMTTYPE=image/jpeg:https://sjr-mannheim.de/wp-content/uploads/2024/05/Digitales-Argumentationstraining-400-x-400-px.jpg
END:VEVENT
END:VCALENDAR