BEGIN:VCALENDAR
VERSION:2.0
PRODID:-//Stadtjugendring Mannheim - ECPv6.15.20//NONSGML v1.0//EN
CALSCALE:GREGORIAN
METHOD:PUBLISH
X-WR-CALNAME:Stadtjugendring Mannheim
X-ORIGINAL-URL:https://sjr-mannheim.de
X-WR-CALDESC:Veranstaltungen für Stadtjugendring Mannheim
REFRESH-INTERVAL;VALUE=DURATION:PT1H
X-Robots-Tag:noindex
X-PUBLISHED-TTL:PT1H
BEGIN:VTIMEZONE
TZID:Europe/Berlin
BEGIN:DAYLIGHT
TZOFFSETFROM:+0100
TZOFFSETTO:+0200
TZNAME:CEST
DTSTART:20240331T010000
END:DAYLIGHT
BEGIN:STANDARD
TZOFFSETFROM:+0200
TZOFFSETTO:+0100
TZNAME:CET
DTSTART:20241027T010000
END:STANDARD
BEGIN:DAYLIGHT
TZOFFSETFROM:+0100
TZOFFSETTO:+0200
TZNAME:CEST
DTSTART:20250330T010000
END:DAYLIGHT
BEGIN:STANDARD
TZOFFSETFROM:+0200
TZOFFSETTO:+0100
TZNAME:CET
DTSTART:20251026T010000
END:STANDARD
BEGIN:DAYLIGHT
TZOFFSETFROM:+0100
TZOFFSETTO:+0200
TZNAME:CEST
DTSTART:20260329T010000
END:DAYLIGHT
BEGIN:STANDARD
TZOFFSETFROM:+0200
TZOFFSETTO:+0100
TZNAME:CET
DTSTART:20261025T010000
END:STANDARD
END:VTIMEZONE
BEGIN:VEVENT
DTSTART;VALUE=DATE:20250301
DTEND;VALUE=DATE:20250302
DTSTAMP:20260421T131201
CREATED:20250124T105549Z
LAST-MODIFIED:20250124T105549Z
UID:11355-1740787200-1740873599@sjr-mannheim.de
SUMMARY:Frist Stärkemeldung & Abrechnung Allg. Zuschuss/ Zentr. Jugendh.
DESCRIPTION:
URL:https://sjr-mannheim.de/termin/frist-staerkemeldung-abrechnung-allg-zuschuss-zentr-jugendh/
CATEGORIES:Abgabeschluss,SJR Mannheim,Verbände,wichtige Termine
END:VEVENT
BEGIN:VEVENT
DTSTART;TZID=Europe/Berlin:20250312T180000
DTEND;TZID=Europe/Berlin:20250312T200000
DTSTAMP:20260421T131201
CREATED:20250124T105724Z
LAST-MODIFIED:20250124T105724Z
UID:11357-1741802400-1741809600@sjr-mannheim.de
SUMMARY:Vorstandssitzung
DESCRIPTION:
URL:https://sjr-mannheim.de/termin/vorstandssitzung/
LOCATION:Jugendkulturzentrum forum\, Neckarpromenade 46\, Mannheim\, 68167
CATEGORIES:SJR Mannheim,Versammlungen,Vorstand
END:VEVENT
BEGIN:VEVENT
DTSTART;TZID=Europe/Berlin:20250313T160000
DTEND;TZID=Europe/Berlin:20250313T190000
DTSTAMP:20260421T131201
CREATED:20250124T104426Z
LAST-MODIFIED:20250124T104426Z
UID:11331-1741881600-1741892400@sjr-mannheim.de
SUMMARY:Jugendhilfeausschuss
DESCRIPTION:
URL:https://sjr-mannheim.de/termin/jugendhilfeausschuss-24/
LOCATION:Stadthaus N1\, N1\, Mannheim
CATEGORIES:Ausschüsse,SJR Mannheim,Stadt Mannheim,Versammlungen,wichtige Termine
END:VEVENT
BEGIN:VEVENT
DTSTART;TZID=Europe/Berlin:20250319T180000
DTEND;TZID=Europe/Berlin:20250319T200000
DTSTAMP:20260421T131201
CREATED:20250124T105857Z
LAST-MODIFIED:20250124T105857Z
UID:11359-1742407200-1742414400@sjr-mannheim.de
SUMMARY:Finanz- und Satzungsausschuss
DESCRIPTION:
URL:https://sjr-mannheim.de/termin/finanz-und-satzungsausschuss-2/
CATEGORIES:Arbeitskreis,Ausschüsse,Ehrenamt,SJR Mannheim,Verbände,Versammlungen,wichtige Termine
END:VEVENT
END:VCALENDAR