BEGIN:VCALENDAR
VERSION:2.0
PRODID:-//Stadtjugendring Mannheim - ECPv6.15.20//NONSGML v1.0//EN
CALSCALE:GREGORIAN
METHOD:PUBLISH
X-WR-CALNAME:Stadtjugendring Mannheim
X-ORIGINAL-URL:https://sjr-mannheim.de
X-WR-CALDESC:Veranstaltungen für Stadtjugendring Mannheim
REFRESH-INTERVAL;VALUE=DURATION:PT1H
X-Robots-Tag:noindex
X-PUBLISHED-TTL:PT1H
BEGIN:VTIMEZONE
TZID:Europe/Berlin
BEGIN:DAYLIGHT
TZOFFSETFROM:+0100
TZOFFSETTO:+0200
TZNAME:CEST
DTSTART:20230326T010000
END:DAYLIGHT
BEGIN:STANDARD
TZOFFSETFROM:+0200
TZOFFSETTO:+0100
TZNAME:CET
DTSTART:20231029T010000
END:STANDARD
BEGIN:DAYLIGHT
TZOFFSETFROM:+0100
TZOFFSETTO:+0200
TZNAME:CEST
DTSTART:20240331T010000
END:DAYLIGHT
BEGIN:STANDARD
TZOFFSETFROM:+0200
TZOFFSETTO:+0100
TZNAME:CET
DTSTART:20241027T010000
END:STANDARD
BEGIN:DAYLIGHT
TZOFFSETFROM:+0100
TZOFFSETTO:+0200
TZNAME:CEST
DTSTART:20250330T010000
END:DAYLIGHT
BEGIN:STANDARD
TZOFFSETFROM:+0200
TZOFFSETTO:+0100
TZNAME:CET
DTSTART:20251026T010000
END:STANDARD
END:VTIMEZONE
BEGIN:VEVENT
DTSTART;TZID=Europe/Berlin:20240515T183000
DTEND;TZID=Europe/Berlin:20240515T213000
DTSTAMP:20260422T105248
CREATED:20240506T112612Z
LAST-MODIFIED:20240506T112612Z
UID:3853-1715797800-1715808600@sjr-mannheim.de
SUMMARY:Jugend wählt Mannheim – Kandidat*innen im Realitycheck
DESCRIPTION:Was wollen wir den Politiker*innen sagen\, die uns in Zukunft vertreten?\nWas haben sie uns zu sagen? \nAm 15.05. veranstalten wir im Haus der Jugend des @bdkj_mannheim (C2 16-18) von 18:30 bis 21:30 Uhr eine offene Diskussion mit Kandidat*innen für die Kommunalwahlen statt. \nDie #kommunalwahlen entscheiden\, was hier direkt vor Ort passiert. Das ist für die Jugendverbände des Stadtjugendrings extrem wichtig. \nWer sich über das Wahlprogramm der einzelnen Parteien informieren\, oder eigene Themen voranbringen will\, ist eingeladen vorbei zu kommen!
URL:https://sjr-mannheim.de/termin/jugend-waehlt-mannheim-kandidatinnen-im-realitycheck/
LOCATION:Haus der Jugend\, C2\, Mannheim\, Germany
CATEGORIES:SJR Mannheim,Verbände,wichtige Termine
ATTACH;FMTTYPE=image/jpeg:https://sjr-mannheim.de/wp-content/uploads/2024/05/Jugend-waehlt-Mannheim-Kandidatinnen-im-Reality-Check-400-x-400-px.jpg
END:VEVENT
END:VCALENDAR